BEGIN:VCALENDAR
VERSION:2.0
METHOD:PUBLISH
CALSCALE:GREGORIAN
PRODID:-//Refresh Web Development//Helios Calendar//EN
X-FROM-URL:https://www.bayareascience.org/calendar/index.php?com=details&eID=38085
X-WR-RELCALID:BayAreaScience.org  Beginner Birding 20250419T110000
X-WR-TIMEZONE:America/New_York
X-WR-CALNAME:BayAreaScience.org
BEGIN:VEVENT
URL;VALUE=URI:https://www.bayareascience.org/calendar/index.php?com=detail&eID=38085
DTSTART:20250419T110000
DTEND:20250419T123000
SUMMARY: Beginner Birding
DESCRIPTION:Come join a Ranger Guided Hike and Birding Program with a Marin Headlands Interpretation Ranger! Learn all about the many different types of birds that call the Marin Headlands home while hiking...\n______________________________\nThis Event Downloaded From a Helios Calendar Powered Site
LOCATION:Marin Headlands Rodeo Beach - Mitchell Rd and Kirpatrick St \, Mill Valley\, CA  94941
CATEGORIES:BayAreaScience.org Events
PRIORITY:0
TRANSP:TRANSPARENT
END:VEVENT
END:VCALENDAR