BEGIN:VCALENDAR
VERSION:2.0
METHOD:PUBLISH
CALSCALE:GREGORIAN
PRODID:-//Refresh Web Development//Helios Calendar//EN
X-FROM-URL:https://www.bayareascience.org/calendar/index.php?com=details&eID=38092
X-WR-RELCALID:BayAreaScience.org Sustainably Powering AI: The latest Stanford research - Livestream 20250409T140000
X-WR-TIMEZONE:America/New_York
X-WR-CALNAME:BayAreaScience.org
BEGIN:VEVENT
URL;VALUE=URI:https://www.bayareascience.org/calendar/index.php?com=detail&eID=38092
DTSTART:20250409T140000
DTEND:20250409T150000
SUMMARY:Sustainably Powering AI: The latest Stanford research - Livestream
DESCRIPTION:AI offers enormous potential for a sustainable future\, leveraging the vast amount of data in the energy system to optimize everything from battery management to changing energy markets to grid...\n______________________________\nThis Event Downloaded From a Helios Calendar Powered Site
LOCATION:Stanford University -  \, \, CA  
CATEGORIES:BayAreaScience.org Events
PRIORITY:0
TRANSP:TRANSPARENT
END:VEVENT
END:VCALENDAR