BEGIN:VCALENDAR
VERSION:2.0
METHOD:PUBLISH
CALSCALE:GREGORIAN
PRODID:-//Refresh Web Development//Helios Calendar//EN
X-FROM-URL:https://www.bayareascience.org/calendar/index.php?com=details&eID=38096
X-WR-RELCALID:BayAreaScience.org Two Eyes are Better than One: JWST and ALMA Look at Star Formation 20250421T160000
X-WR-TIMEZONE:America/New_York
X-WR-CALNAME:BayAreaScience.org
BEGIN:VEVENT
URL;VALUE=URI:https://www.bayareascience.org/calendar/index.php?com=detail&eID=38096
DTSTART:20250421T160000
DTEND:20250421T160000
SUMMARY:Two Eyes are Better than One: JWST and ALMA Look at Star Formation
DESCRIPTION:Stars and their planetary systems form in cold insterstellar gas and dust clouds impermeable to the optical light our eyes can see. By contrast\, light at much longer wavelengths is able to penetrate...\n______________________________\nThis Event Downloaded From a Helios Calendar Powered Site
LOCATION:Sonoma State University - What Physicists Do - 1801 E. Cotati Ave. Darwin Hall\, Room 103\, Rohnert Park\, CA USA 94928
CATEGORIES:BayAreaScience.org Events
PRIORITY:0
TRANSP:TRANSPARENT
END:VEVENT
END:VCALENDAR