BEGIN:VCALENDAR
VERSION:2.0
METHOD:PUBLISH
CALSCALE:GREGORIAN
PRODID:-//Refresh Web Development//Helios Calendar//EN
X-FROM-URL:https://www.bayareascience.org/calendar/index.php?com=details&eID=38098
X-WR-RELCALID:BayAreaScience.org Testing Gravity at ever shorter scale: a trip into exotic experimental physics 20250414T160000
X-WR-TIMEZONE:America/New_York
X-WR-CALNAME:BayAreaScience.org
BEGIN:VEVENT
URL;VALUE=URI:https://www.bayareascience.org/calendar/index.php?com=detail&eID=38098
DTSTART:20250414T160000
DTEND:20250414T160000
SUMMARY:Testing Gravity at ever shorter scale: a trip into exotic experimental physics
DESCRIPTION:Since the times of Henry Cavendish and John Mitchell\, the strength of gravity has been measured by comparing it to the reaction of a calibrated mechanical spring. While in the last 60 years planetary...\n______________________________\nThis Event Downloaded From a Helios Calendar Powered Site
LOCATION:Sonoma State University - What Physicists Do - 1801 E. Cotati Ave. Darwin Hall\, Room 103\, Rohnert Park\, CA USA 94928
CATEGORIES:BayAreaScience.org Events
PRIORITY:0
TRANSP:TRANSPARENT
END:VEVENT
END:VCALENDAR