BEGIN:VCALENDAR
VERSION:2.0
METHOD:PUBLISH
CALSCALE:GREGORIAN
PRODID:-//Refresh Web Development//Helios Calendar//EN
X-FROM-URL:https://www.bayareascience.org/calendar/index.php?com=details&eID=38099
X-WR-RELCALID:BayAreaScience.org PelicanFest: Earth Day Celebration in Pacifica 20250426T103000
X-WR-TIMEZONE:America/New_York
X-WR-CALNAME:BayAreaScience.org
BEGIN:VEVENT
URL;VALUE=URI:https://www.bayareascience.org/calendar/index.php?com=detail&eID=38099
DTSTART:20250426T103000
DTEND:20250426T133000
SUMMARY:PelicanFest: Earth Day Celebration in Pacifica
DESCRIPTION:Join us at PelicanFest\, an Earth Day celebration\, an that event invites the Bay Area to discover and celebrate pelicansBooths will line the North Parking...\n______________________________\nThis Event Downloaded From a Helios Calendar Powered Site
LOCATION:Linda Mar State Beach North Lot - 5000 Hwy 1 \, Pacifica\, CA USA 94044
CATEGORIES:BayAreaScience.org Events
PRIORITY:0
TRANSP:TRANSPARENT
END:VEVENT
END:VCALENDAR