BEGIN:VCALENDAR
VERSION:2.0
METHOD:PUBLISH
CALSCALE:GREGORIAN
PRODID:-//Refresh Web Development//Helios Calendar//EN
X-FROM-URL:https://www.bayareascience.org/calendar/index.php?com=details&eID=38107
X-WR-RELCALID:BayAreaScience.org The Nuts and Bolts of Teaching Astronomy - Livestream 20250430T153000
X-WR-TIMEZONE:America/New_York
X-WR-CALNAME:BayAreaScience.org
BEGIN:VEVENT
URL;VALUE=URI:https://www.bayareascience.org/calendar/index.php?com=detail&eID=38107
DTSTART:20250430T153000
DTEND:20250430T173000
SUMMARY:The Nuts and Bolts of Teaching Astronomy - Livestream
DESCRIPTION:In this 90-minute introductory workshop\, join experienced teachers who have taught astronomy in grades K-12 to cover the “nuts and bolts'' of what an astronomy unit or class could look like....\n______________________________\nThis Event Downloaded From a Helios Calendar Powered Site
LOCATION:Astronomical Society of the Pacific -  \, \, CA  
CATEGORIES:BayAreaScience.org Events
PRIORITY:0
TRANSP:TRANSPARENT
END:VEVENT
END:VCALENDAR