BEGIN:VCALENDAR
VERSION:2.0
METHOD:PUBLISH
CALSCALE:GREGORIAN
PRODID:-//Refresh Web Development//Helios Calendar//EN
X-FROM-URL:https://www.bayareascience.org/calendar/index.php?com=details&eID=38109
X-WR-RELCALID:BayAreaScience.org Applying single cell genomics to microbial communities at the JGI 20250430T153000
X-WR-TIMEZONE:America/New_York
X-WR-CALNAME:BayAreaScience.org
BEGIN:VEVENT
URL;VALUE=URI:https://www.bayareascience.org/calendar/index.php?com=detail&eID=38109
DTSTART:20250430T153000
DTEND:20250430T163000
SUMMARY:Applying single cell genomics to microbial communities at the JGI
DESCRIPTION:This seminar traces my journey to the DOE Joint Genome Institute\, highlighting how microbial diversity has shaped my research\, from algal genomics and airborne microbial ecology to lowbiomass communities...\n______________________________\nThis Event Downloaded From a Helios Calendar Powered Site
LOCATION:Estuary & Ocean Science Center - 3150 Paradise Drive Bay Conference Center\, South Bay Room\, Tiburon\, CA  94920
CATEGORIES:BayAreaScience.org Events
PRIORITY:0
TRANSP:TRANSPARENT
END:VEVENT
END:VCALENDAR