BEGIN:VCALENDAR
VERSION:2.0
METHOD:PUBLISH
CALSCALE:GREGORIAN
PRODID:-//Refresh Web Development//Helios Calendar//EN
X-FROM-URL:https://www.bayareascience.org/calendar/index.php?com=details&eID=38112
X-WR-RELCALID:BayAreaScience.org  SEA Adventures: Fog Science Workshop 20250413T110000
X-WR-TIMEZONE:America/New_York
X-WR-CALNAME:BayAreaScience.org
BEGIN:VEVENT
URL;VALUE=URI:https://www.bayareascience.org/calendar/index.php?com=detail&eID=38112
DTSTART:20250413T110000
DTEND:20250413T120000
SUMMARY: SEA Adventures: Fog Science Workshop
DESCRIPTION:Peter Weiss-Penzias is a UCSC researcher who made a discovery of the existence of methylmercury in California coastal fog and stratus clouds. To carry out his research\, he has pioneered methods...\n______________________________\nThis Event Downloaded From a Helios Calendar Powered Site
LOCATION:Seymour Marine Discovery Center - 100 McAllister Way \, Santa Cruz\, CA  95060
CATEGORIES:BayAreaScience.org Events
PRIORITY:0
TRANSP:TRANSPARENT
END:VEVENT
END:VCALENDAR