BEGIN:VCALENDAR
VERSION:2.0
METHOD:PUBLISH
CALSCALE:GREGORIAN
PRODID:-//Refresh Web Development//Helios Calendar//EN
X-FROM-URL:https://www.bayareascience.org/calendar/index.php?com=details&eID=38116
X-WR-RELCALID:BayAreaScience.org The Majestic Gas Giant: Uncovering Jupiter’s Secrets - Livestream 20250417T170000
X-WR-TIMEZONE:America/New_York
X-WR-CALNAME:BayAreaScience.org
BEGIN:VEVENT
URL;VALUE=URI:https://www.bayareascience.org/calendar/index.php?com=detail&eID=38116
DTSTART:20250417T170000
DTEND:20250417T170000
SUMMARY:The Majestic Gas Giant: Uncovering Jupiter’s Secrets - Livestream
DESCRIPTION:Three scientists will discuss what their research has revealed about our solar system’s largest planet - from the fluid dynamics of the Great Red Spot to the mysterious magnetic tornadoes at...\n______________________________\nThis Event Downloaded From a Helios Calendar Powered Site
LOCATION:UC Berkeley -  \, \, CA  
CATEGORIES:BayAreaScience.org Events
PRIORITY:0
TRANSP:TRANSPARENT
END:VEVENT
END:VCALENDAR