BEGIN:VCALENDAR
VERSION:2.0
METHOD:PUBLISH
CALSCALE:GREGORIAN
PRODID:-//Refresh Web Development//Helios Calendar//EN
X-FROM-URL:https://www.bayareascience.org/calendar/index.php?com=details&eID=38117
X-WR-RELCALID:BayAreaScience.org The Big Open Questions in Science: Junk DNA, the Multiverse, and the Search for Extraterrestrial Intelligence - Livestream 20250429T170000
X-WR-TIMEZONE:America/New_York
X-WR-CALNAME:BayAreaScience.org
BEGIN:VEVENT
URL;VALUE=URI:https://www.bayareascience.org/calendar/index.php?com=detail&eID=38117
DTSTART:20250429T170000
DTEND:20250429T170000
SUMMARY:The Big Open Questions in Science: Junk DNA\, the Multiverse\, and the Search for Extraterrestrial Intelligence - Livestream
DESCRIPTION:Scientists seek to answer humanity’s biggest questions through careful observation and experimentation. Still\, such fundamental problems as “Are we alone?”\, “What...\n______________________________\nThis Event Downloaded From a Helios Calendar Powered Site
LOCATION:UC Berkeley -  \, \, CA  
CATEGORIES:BayAreaScience.org Events
PRIORITY:0
TRANSP:TRANSPARENT
END:VEVENT
END:VCALENDAR