BEGIN:VCALENDAR
VERSION:2.0
METHOD:PUBLISH
CALSCALE:GREGORIAN
PRODID:-//Refresh Web Development//Helios Calendar//EN
X-FROM-URL:https://www.bayareascience.org/calendar/index.php?com=details&eID=38123
X-WR-RELCALID:BayAreaScience.org Birding at Bair Island 20250413T100000
X-WR-TIMEZONE:America/New_York
X-WR-CALNAME:BayAreaScience.org
BEGIN:VEVENT
URL;VALUE=URI:https://www.bayareascience.org/calendar/index.php?com=detail&eID=38123
DTSTART:20250413T100000
DTEND:20250413T123000
SUMMARY:Birding at Bair Island
DESCRIPTION:Join POST and Santa Clara Valley Bird Alliance for a birding tour at the Bair Island Unit of the Don Edwards San Francisco Bay National Wildlife Refuge! SCVBA expert facilitators and POST staff...\n______________________________\nThis Event Downloaded From a Helios Calendar Powered Site
LOCATION:Bair Island Wildlife Refuge & Trail - 3 Uccelli Blvd \, Redwood City\, CA  94063
CATEGORIES:BayAreaScience.org Events
PRIORITY:0
TRANSP:TRANSPARENT
END:VEVENT
END:VCALENDAR