BEGIN:VCALENDAR
VERSION:2.0
METHOD:PUBLISH
CALSCALE:GREGORIAN
PRODID:-//Refresh Web Development//Helios Calendar//EN
X-FROM-URL:https://www.bayareascience.org/calendar/index.php?com=details&eID=38134
X-WR-RELCALID:BayAreaScience.org Sedimentologic and stratigraphic reconstruction of the Glen Torridon region, Gale Crater, Mars using ground data from the Curiosity rover 20250408T120000
X-WR-TIMEZONE:America/New_York
X-WR-CALNAME:BayAreaScience.org
BEGIN:VEVENT
URL;VALUE=URI:https://www.bayareascience.org/calendar/index.php?com=detail&eID=38134
DTSTART:20250408T120000
DTEND:20250408T131500
SUMMARY:Sedimentologic and stratigraphic reconstruction of the Glen Torridon region\, Gale Crater\, Mars using ground data from the Curiosity rover
DESCRIPTION:\n______________________________\nThis Event Downloaded From a Helios Calendar Powered Site
LOCATION:Braun (Geology) Corner (Bldg 320)\, Rm 220 - 450 Serra Mall Stanford University\, Stanford\, CA  94305
CATEGORIES:BayAreaScience.org Events
PRIORITY:0
TRANSP:TRANSPARENT
END:VEVENT
END:VCALENDAR