BEGIN:VCALENDAR
VERSION:2.0
METHOD:PUBLISH
CALSCALE:GREGORIAN
PRODID:-//Refresh Web Development//Helios Calendar//EN
X-FROM-URL:https://www.bayareascience.org/calendar/index.php?com=details&eID=38141
X-WR-RELCALID:BayAreaScience.org Mitigation and adaptation to Wildfires and their effect on health - Livestream 20250410T123000
X-WR-TIMEZONE:America/New_York
X-WR-CALNAME:BayAreaScience.org
BEGIN:VEVENT
URL;VALUE=URI:https://www.bayareascience.org/calendar/index.php?com=detail&eID=38141
DTSTART:20250410T123000
DTEND:20250410T133000
SUMMARY:Mitigation and adaptation to Wildfires and their effect on health - Livestream
DESCRIPTION:Wildfires have become increasingly frequent and intense due to global warming and deforestation. In addition to the immediate dangers of wildfires to life and property\, wildfire smoke exposure...\n______________________________\nThis Event Downloaded From a Helios Calendar Powered Site
LOCATION:Stanford University -  \, \, CA  
CATEGORIES:BayAreaScience.org Events
PRIORITY:0
TRANSP:TRANSPARENT
END:VEVENT
END:VCALENDAR