BEGIN:VCALENDAR
VERSION:2.0
METHOD:PUBLISH
CALSCALE:GREGORIAN
PRODID:-//Refresh Web Development//Helios Calendar//EN
X-FROM-URL:https://www.bayareascience.org/calendar/index.php?com=details&eID=38172
X-WR-RELCALID:BayAreaScience.org Catalyzing Regeneration to Combat Climate Change and Biodiversity Loss 20250422T150000
X-WR-TIMEZONE:America/New_York
X-WR-CALNAME:BayAreaScience.org
BEGIN:VEVENT
URL;VALUE=URI:https://www.bayareascience.org/calendar/index.php?com=detail&eID=38172
DTSTART:20250422T150000
DTEND:20250422T160000
SUMMARY:Catalyzing Regeneration to Combat Climate Change and Biodiversity Loss
DESCRIPTION:Celebrate Earth Day with an inspiring panel discussion about regeneration and individual actions\, climate change\, and biodiversity loss featuring top scientists from the California Academy of Sciences...\n______________________________\nThis Event Downloaded From a Helios Calendar Powered Site
LOCATION:California Academy of Sciences - 55 Music Concourse Dr. \, San Francisco\, CA USA 94118
CATEGORIES:BayAreaScience.org Events
PRIORITY:0
TRANSP:TRANSPARENT
END:VEVENT
END:VCALENDAR