BEGIN:VCALENDAR
VERSION:2.0
METHOD:PUBLISH
CALSCALE:GREGORIAN
PRODID:-//Refresh Web Development//Helios Calendar//EN
X-FROM-URL:https://www.bayareascience.org/calendar/index.php?com=details&eID=38176
X-WR-RELCALID:BayAreaScience.org Going the Distance - One Humpback's Journey of Migration - Livestream 20250429T190000
X-WR-TIMEZONE:America/New_York
X-WR-CALNAME:BayAreaScience.org
BEGIN:VEVENT
URL;VALUE=URI:https://www.bayareascience.org/calendar/index.php?com=detail&eID=38176
DTSTART:20250429T190000
DTEND:20250429T203000
SUMMARY:Going the Distance - One Humpback's Journey of Migration - Livestream
DESCRIPTION:Please join us as we embark on a global travel - virtually - along one humpback whale’s migration. You won’t want to miss the journey as chronicled by the marine biologists behind the discovery...\n______________________________\nThis Event Downloaded From a Helios Calendar Powered Site
LOCATION:American Cetacean Society -  \, \, CA  
CATEGORIES:BayAreaScience.org Events
PRIORITY:0
TRANSP:TRANSPARENT
END:VEVENT
END:VCALENDAR