BEGIN:VCALENDAR
VERSION:2.0
METHOD:PUBLISH
CALSCALE:GREGORIAN
PRODID:-//Refresh Web Development//Helios Calendar//EN
X-FROM-URL:https://www.bayareascience.org/calendar/index.php?com=details&eID=38185
X-WR-RELCALID:BayAreaScience.org Planning for a Just Transition led by Fossil Fuel Workers and Communities 20250422T160000
X-WR-TIMEZONE:America/New_York
X-WR-CALNAME:BayAreaScience.org
BEGIN:VEVENT
URL;VALUE=URI:https://www.bayareascience.org/calendar/index.php?com=detail&eID=38185
DTSTART:20250422T160000
DTEND:20250422T180000
SUMMARY:Planning for a Just Transition led by Fossil Fuel Workers and Communities
DESCRIPTION:Celebrate Earth Day 2025 and get engaged in local community climate work!In this student-facilitated event\, we will explore a groundbreaking transition planning effort happening right here...\n______________________________\nThis Event Downloaded From a Helios Calendar Powered Site
LOCATION:UC Berkeley Labor Center - 2521 Channing Way #555 \, Berkeley\, CA  94720
CATEGORIES:BayAreaScience.org Events
PRIORITY:0
TRANSP:TRANSPARENT
END:VEVENT
END:VCALENDAR