BEGIN:VCALENDAR
VERSION:2.0
METHOD:PUBLISH
CALSCALE:GREGORIAN
PRODID:-//Refresh Web Development//Helios Calendar//EN
X-FROM-URL:https://www.bayareascience.org/calendar/index.php?com=details&eID=38187
X-WR-RELCALID:BayAreaScience.org Superintelligent Agents Pose Catastrophic Risks - Can Scientist AI Offer a Safer Path? 20250415T160000
X-WR-TIMEZONE:America/New_York
X-WR-CALNAME:BayAreaScience.org
BEGIN:VEVENT
URL;VALUE=URI:https://www.bayareascience.org/calendar/index.php?com=detail&eID=38187
DTSTART:20250415T160000
DTEND:20250415T170000
SUMMARY:Superintelligent Agents Pose Catastrophic Risks - Can Scientist AI Offer a Safer Path?
DESCRIPTION:The leading AI companies are increasingly focused on building generalist AI agents - systems that can autonomously plan\, act\, and pursue goals across almost all tasks that humans can perform. Despite...\n______________________________\nThis Event Downloaded From a Helios Calendar Powered Site
LOCATION:Calvin Laboratory - UC Berkeley Auditorium\, Berkeley\, CA  94720
CATEGORIES:BayAreaScience.org Events
PRIORITY:0
TRANSP:TRANSPARENT
END:VEVENT
END:VCALENDAR