BEGIN:VCALENDAR
VERSION:2.0
METHOD:PUBLISH
CALSCALE:GREGORIAN
PRODID:-//Refresh Web Development//Helios Calendar//EN
X-FROM-URL:https://www.bayareascience.org/calendar/index.php?com=details&eID=38190
X-WR-RELCALID:BayAreaScience.org Astronomy on Tap Santa Cruz: Searching for Runaway Supermassive Black Holes and What can DESI tell us about our Universe 20250415T193000
X-WR-TIMEZONE:America/New_York
X-WR-CALNAME:BayAreaScience.org
BEGIN:VEVENT
URL;VALUE=URI:https://www.bayareascience.org/calendar/index.php?com=detail&eID=38190
DTSTART:20250415T193000
DTEND:20250415T210000
SUMMARY:Astronomy on Tap Santa Cruz: Searching for Runaway Supermassive Black Holes and What can DESI tell us about our Universe
DESCRIPTION:Searching for Runaway Supermassive Black HolesSpeaker: Anavi Uppal\, UC Santa CruzWhat Can the Dark Energy Spectroscopic Instrument Tell Us About Our Universe?\n______________________________\nThis Event Downloaded From a Helios Calendar Powered Site
LOCATION:Abbott Square Market - 118 Cooper St \, Santa Cruz\, CA  95060
CATEGORIES:BayAreaScience.org Events
PRIORITY:0
TRANSP:TRANSPARENT
END:VEVENT
END:VCALENDAR