BEGIN:VCALENDAR
VERSION:2.0
METHOD:PUBLISH
CALSCALE:GREGORIAN
PRODID:-//Refresh Web Development//Helios Calendar//EN
X-FROM-URL:https://www.bayareascience.org/calendar/index.php?com=details&eID=38203
X-WR-RELCALID:BayAreaScience.org All About the Rings of Saturn 20250417T190000
X-WR-TIMEZONE:America/New_York
X-WR-CALNAME:BayAreaScience.org
BEGIN:VEVENT
URL;VALUE=URI:https://www.bayareascience.org/calendar/index.php?com=detail&eID=38203
DTSTART:20250417T190000
DTEND:20250417T203000
SUMMARY:All About the Rings of Saturn
DESCRIPTION:Dr. Jeffrey Cuzzi...\n______________________________\nThis Event Downloaded From a Helios Calendar Powered Site
LOCATION:Los Altos Public Library - 13 S San Antonio Rd Peninsula Astronomical Society\, Los Altos\, CA  94022
CATEGORIES:BayAreaScience.org Events
PRIORITY:0
TRANSP:TRANSPARENT
END:VEVENT
END:VCALENDAR