BEGIN:VCALENDAR
VERSION:2.0
METHOD:PUBLISH
CALSCALE:GREGORIAN
PRODID:-//Refresh Web Development//Helios Calendar//EN
X-FROM-URL:https://www.bayareascience.org/calendar/index.php?com=details&eID=38205
X-WR-RELCALID:BayAreaScience.org SFCW at Climate One with San Jose Mayor Matt Mahan, Rep. Jared Huffman 20250424T173000
X-WR-TIMEZONE:America/New_York
X-WR-CALNAME:BayAreaScience.org
BEGIN:VEVENT
URL;VALUE=URI:https://www.bayareascience.org/calendar/index.php?com=detail&eID=38205
DTSTART:20250424T173000
DTEND:20250424T190000
SUMMARY:SFCW at Climate One with San Jose Mayor Matt Mahan\, Rep. Jared Huffman
DESCRIPTION:Climate One will be celebrating SF Climate Week with a series of programs featuring California and the San Francisco Bay Area’s leading voices in state and local policy\, climate justice\, arts...\n______________________________\nThis Event Downloaded From a Helios Calendar Powered Site
LOCATION:Commonwealth Club - 110 The Embarcadero \, San Francisco\, CA  94105
CATEGORIES:BayAreaScience.org Events
PRIORITY:0
TRANSP:TRANSPARENT
END:VEVENT
END:VCALENDAR