BEGIN:VCALENDAR
VERSION:2.0
METHOD:PUBLISH
CALSCALE:GREGORIAN
PRODID:-//Refresh Web Development//Helios Calendar//EN
X-FROM-URL:https://www.bayareascience.org/calendar/index.php?com=details&eID=38206
X-WR-RELCALID:BayAreaScience.org  Green Business Expo and Yerba Buena Gardens Earth Day Festival 2025 20250419T100000
X-WR-TIMEZONE:America/New_York
X-WR-CALNAME:BayAreaScience.org
BEGIN:VEVENT
URL;VALUE=URI:https://www.bayareascience.org/calendar/index.php?com=detail&eID=38206
DTSTART:20250419T100000
DTEND:20250419T150000
SUMMARY: Green Business Expo and Yerba Buena Gardens Earth Day Festival 2025
DESCRIPTION:?Celebrate San Francisco Green Businesses at the Yerba Buena 2025 Earth Day Festival! Join San Francisco Environment Department\, in partnership with the Yerba Buena Gardens Conservancy\, for a day...\n______________________________\nThis Event Downloaded From a Helios Calendar Powered Site
LOCATION:Yerba Buena Gardens - 750 Howard St \, San Francisco\, CA  94103
CATEGORIES:BayAreaScience.org Events
PRIORITY:0
TRANSP:TRANSPARENT
END:VEVENT
END:VCALENDAR