BEGIN:VCALENDAR
VERSION:2.0
METHOD:PUBLISH
CALSCALE:GREGORIAN
PRODID:-//Refresh Web Development//Helios Calendar//EN
X-FROM-URL:https://www.bayareascience.org/calendar/index.php?com=details&eID=38210
X-WR-RELCALID:BayAreaScience.org World Migratory Bird Day: The Role of Community Science 20250511T113000
X-WR-TIMEZONE:America/New_York
X-WR-CALNAME:BayAreaScience.org
BEGIN:VEVENT
URL;VALUE=URI:https://www.bayareascience.org/calendar/index.php?com=detail&eID=38210
DTSTART:20250511T113000
DTEND:20250511T133000
SUMMARY:World Migratory Bird Day: The Role of Community Science
DESCRIPTION:Join us to learn about how community science impacts our understanding of bird migration. This presentation about online tools including eBird and iNaturalist will emphasize the strength in the...\n______________________________\nThis Event Downloaded From a Helios Calendar Powered Site
LOCATION:Don Edwards Refuge Environmental Education Center - 1751 Grand Blvd \, Alviso\, CA  95002
CATEGORIES:BayAreaScience.org Events
PRIORITY:0
TRANSP:TRANSPARENT
END:VEVENT
END:VCALENDAR