BEGIN:VCALENDAR
VERSION:2.0
METHOD:PUBLISH
CALSCALE:GREGORIAN
PRODID:-//Refresh Web Development//Helios Calendar//EN
X-FROM-URL:https://www.bayareascience.org/calendar/index.php?com=details&eID=38215
X-WR-RELCALID:BayAreaScience.org  SETI Live: Is Intelligent Life Easy? - Livestream 20250424T110000
X-WR-TIMEZONE:America/New_York
X-WR-CALNAME:BayAreaScience.org
BEGIN:VEVENT
URL;VALUE=URI:https://www.bayareascience.org/calendar/index.php?com=detail&eID=38215
DTSTART:20250424T110000
DTEND:20250424T113000
SUMMARY: SETI Live: Is Intelligent Life Easy? - Livestream
DESCRIPTION:Human-Like Life Probably Evolves "Right on Time" ?A recent study proposes a new model for the evolution of intelligent life\, which challenges the long-standing "hard steps" theory that...\n______________________________\nThis Event Downloaded From a Helios Calendar Powered Site
LOCATION:SETI Institute -  \, \, CA  
CATEGORIES:BayAreaScience.org Events
PRIORITY:0
TRANSP:TRANSPARENT
END:VEVENT
END:VCALENDAR