BEGIN:VCALENDAR
VERSION:2.0
METHOD:PUBLISH
CALSCALE:GREGORIAN
PRODID:-//Refresh Web Development//Helios Calendar//EN
X-FROM-URL:https://www.bayareascience.org/calendar/index.php?com=details&eID=38218
X-WR-RELCALID:BayAreaScience.org Binary Stars 20250418T193000
X-WR-TIMEZONE:America/New_York
X-WR-CALNAME:BayAreaScience.org
BEGIN:VEVENT
URL;VALUE=URI:https://www.bayareascience.org/calendar/index.php?com=detail&eID=38218
DTSTART:20250418T193000
DTEND:20250418T193000
SUMMARY:Binary Stars
DESCRIPTION:Speaker: Catherine ClarkSee weblink for instructions to obtain online link\, or attend in person.\n______________________________\nThis Event Downloaded From a Helios Calendar Powered Site
LOCATION:Tri-Valley Stargazers - 1893 N. Vasco Rd Unitarian Universalist Church\, Livermore\, CA  94551
CATEGORIES:BayAreaScience.org Events
PRIORITY:0
TRANSP:TRANSPARENT
END:VEVENT
END:VCALENDAR