BEGIN:VCALENDAR
VERSION:2.0
METHOD:PUBLISH
CALSCALE:GREGORIAN
PRODID:-//Refresh Web Development//Helios Calendar//EN
X-FROM-URL:https://www.bayareascience.org/calendar/index.php?com=details&eID=38256
X-WR-RELCALID:BayAreaScience.org Misclassification: The Hidden Source of Hallucinations in Language Models 20250430T160000
X-WR-TIMEZONE:America/New_York
X-WR-CALNAME:BayAreaScience.org
BEGIN:VEVENT
URL;VALUE=URI:https://www.bayareascience.org/calendar/index.php?com=detail&eID=38256
DTSTART:20250430T160000
DTEND:20250430T170000
SUMMARY:Misclassification: The Hidden Source of Hallucinations in Language Models
DESCRIPTION:Pretrained Language Models (LMs) generate plausible-sounding errors\, so-called hallucinations\, at surprisingly high rates in certain domains. We cast the problem of generating valid responses as...\n______________________________\nThis Event Downloaded From a Helios Calendar Powered Site
LOCATION:Evans Hall - UC Berkeley Room 1011\, Berkeley\, CA  94720
CATEGORIES:BayAreaScience.org Events
PRIORITY:0
TRANSP:TRANSPARENT
END:VEVENT
END:VCALENDAR