BEGIN:VCALENDAR
VERSION:2.0
METHOD:PUBLISH
CALSCALE:GREGORIAN
PRODID:-//Refresh Web Development//Helios Calendar//EN
X-FROM-URL:https://www.bayareascience.org/calendar/index.php?com=details&eID=38257
X-WR-RELCALID:BayAreaScience.org Presenting the 2025 AI Index 20250430T120000
X-WR-TIMEZONE:America/New_York
X-WR-CALNAME:BayAreaScience.org
BEGIN:VEVENT
URL;VALUE=URI:https://www.bayareascience.org/calendar/index.php?com=detail&eID=38257
DTSTART:20250430T120000
DTEND:20250430T130000
SUMMARY:Presenting the 2025 AI Index
DESCRIPTION:The AI Index\, currently in its eighth year\, tracks\, collates\, distills\, and visualizes data relating to artificial intelligence. The Index provides unbiased\, rigorously vetted\, and globally sourced...\n______________________________\nThis Event Downloaded From a Helios Calendar Powered Site
LOCATION:Gates Computer Science Building - Stanford University Room 119\, Stanford\, CA  94305
CATEGORIES:BayAreaScience.org Events
PRIORITY:0
TRANSP:TRANSPARENT
END:VEVENT
END:VCALENDAR