BEGIN:VCALENDAR
VERSION:2.0
METHOD:PUBLISH
CALSCALE:GREGORIAN
PRODID:-//Refresh Web Development//Helios Calendar//EN
X-FROM-URL:https://www.bayareascience.org/calendar/index.php?com=details&eID=38258
X-WR-RELCALID:BayAreaScience.org At the Foothills of an AI Era in Science 20250428T120000
X-WR-TIMEZONE:America/New_York
X-WR-CALNAME:BayAreaScience.org
BEGIN:VEVENT
URL;VALUE=URI:https://www.bayareascience.org/calendar/index.php?com=detail&eID=38258
DTSTART:20250428T120000
DTEND:20250428T130000
SUMMARY:At the Foothills of an AI Era in Science
DESCRIPTION:Advances in artificial intelligence are rapidly transforming the scientific enterprise\, offering powerful new methods for generating hypotheses\, designing experiments\, and interpreting data. I...\n______________________________\nThis Event Downloaded From a Helios Calendar Powered Site
LOCATION:Gates Computer Science Building - Stanford University Room 119\, Stanford\, CA  94305
CATEGORIES:BayAreaScience.org Events
PRIORITY:0
TRANSP:TRANSPARENT
END:VEVENT
END:VCALENDAR