BEGIN:VCALENDAR
VERSION:2.0
METHOD:PUBLISH
CALSCALE:GREGORIAN
PRODID:-//Refresh Web Development//Helios Calendar//EN
X-FROM-URL:https://www.bayareascience.org/calendar/index.php?com=details&eID=38309
X-WR-RELCALID:BayAreaScience.org Mother’s Day Bath Bomb Workshop at The Tech Interactive 20250510T110000
X-WR-TIMEZONE:America/New_York
X-WR-CALNAME:BayAreaScience.org
BEGIN:VEVENT
URL;VALUE=URI:https://www.bayareascience.org/calendar/index.php?com=detail&eID=38309
DTSTART:20250510T110000
DTEND:20250510T160000
SUMMARY:Mother’s Day Bath Bomb Workshop at The Tech Interactive
DESCRIPTION:Reserve your spot for The Tech Interactive's Bath Bomb Workshop to create magical memories and beautiful bath bombs for the special women in your life.Bring your child\, mom\, aunt\, grandparent\,...\n______________________________\nThis Event Downloaded From a Helios Calendar Powered Site
LOCATION:The Tech Interactive - 201 South Market St \, San Jose\, CA  95113
CATEGORIES:BayAreaScience.org Events
PRIORITY:0
TRANSP:TRANSPARENT
END:VEVENT
END:VCALENDAR