BEGIN:VCALENDAR
VERSION:2.0
METHOD:PUBLISH
CALSCALE:GREGORIAN
PRODID:-//Refresh Web Development//Helios Calendar//EN
X-FROM-URL:https://www.bayareascience.org/calendar/index.php?com=details&eID=38320
X-WR-RELCALID:BayAreaScience.org A Climate Scientist’s Case for Hope and Healing in a Divided World 20250518T160000
X-WR-TIMEZONE:America/New_York
X-WR-CALNAME:BayAreaScience.org
BEGIN:VEVENT
URL;VALUE=URI:https://www.bayareascience.org/calendar/index.php?com=detail&eID=38320
DTSTART:20250518T160000
DTEND:20250518T173000
SUMMARY:A Climate Scientist’s Case for Hope and Healing in a Divided World
DESCRIPTION:Don’t miss this chance to hear from Katharine Hayhoe\, a leading voice on climate change today. Called “one of the nation’s most effective...\n______________________________\nThis Event Downloaded From a Helios Calendar Powered Site
LOCATION:Piedmont Community Church - 400 Highland Ave \, Piedmont\, CA  94611
CATEGORIES:BayAreaScience.org Events
PRIORITY:0
TRANSP:TRANSPARENT
END:VEVENT
END:VCALENDAR