BEGIN:VCALENDAR
VERSION:2.0
METHOD:PUBLISH
CALSCALE:GREGORIAN
PRODID:-//Refresh Web Development//Helios Calendar//EN
X-FROM-URL:https://www.bayareascience.org/calendar/index.php?com=details&eID=38326
X-WR-RELCALID:BayAreaScience.org Deflection of light near Jupiter 20250516T193000
X-WR-TIMEZONE:America/New_York
X-WR-CALNAME:BayAreaScience.org
BEGIN:VEVENT
URL;VALUE=URI:https://www.bayareascience.org/calendar/index.php?com=detail&eID=38326
DTSTART:20250516T193000
DTEND:20250516T193000
SUMMARY:Deflection of light near Jupiter
DESCRIPTION:Speaker: Dr. William (Bill) FisherAttend in person or online (see weblink to obtain connection information)\n______________________________\nThis Event Downloaded From a Helios Calendar Powered Site
LOCATION:Unitarian Universalist Church - 1893 N. Vasco Rd \, Livermore\, CA  94551
CATEGORIES:BayAreaScience.org Events
PRIORITY:0
TRANSP:TRANSPARENT
END:VEVENT
END:VCALENDAR