BEGIN:VCALENDAR
VERSION:2.0
METHOD:PUBLISH
CALSCALE:GREGORIAN
PRODID:-//Refresh Web Development//Helios Calendar//EN
X-FROM-URL:https://www.bayareascience.org/calendar/index.php?com=details&eID=38370
X-WR-RELCALID:BayAreaScience.org Cleaner Stormwater, Cleaner Bay - Livestream 20250618T190000
X-WR-TIMEZONE:America/New_York
X-WR-CALNAME:BayAreaScience.org
BEGIN:VEVENT
URL;VALUE=URI:https://www.bayareascience.org/calendar/index.php?com=detail&eID=38370
DTSTART:20250618T190000
DTEND:20250618T203000
SUMMARY:Cleaner Stormwater\, Cleaner Bay - Livestream
DESCRIPTION:Josh Quigley\, Policy Manager at Save The Bay\, discusses an important source of pollution in the San Francisco Bay: stormwater. Discover how policy and nature-based solutions help keep trash\, microplastics...\n______________________________\nThis Event Downloaded From a Helios Calendar Powered Site
LOCATION:City of Sunnyvale -  \, \, CA  
CATEGORIES:BayAreaScience.org Events
PRIORITY:0
TRANSP:TRANSPARENT
END:VEVENT
END:VCALENDAR