BEGIN:VCALENDAR
VERSION:2.0
METHOD:PUBLISH
CALSCALE:GREGORIAN
PRODID:-//Refresh Web Development//Helios Calendar//EN
X-FROM-URL:https://www.bayareascience.org/calendar/index.php?com=details&eID=38657
X-WR-RELCALID:BayAreaScience.org Dinner With a Star: Stellar Engulfment of Exoplanet Systems 20250821T190000
X-WR-TIMEZONE:America/New_York
X-WR-CALNAME:BayAreaScience.org
BEGIN:VEVENT
URL;VALUE=URI:https://www.bayareascience.org/calendar/index.php?com=detail&eID=38657
DTSTART:20250821T190000
DTEND:20250821T203000
SUMMARY:Dinner With a Star: Stellar Engulfment of Exoplanet Systems
DESCRIPTION:Ashlyn Leary will describe how she utilizes MESA to model the evolution of stars and compares her results to known exoplanet systems to predict if/when host stars will swallow their planets\, assuming...\n______________________________\nThis Event Downloaded From a Helios Calendar Powered Site
LOCATION:Los Altos Public Library - 13 S San Antonio Rd Peninsula Astronomical Society\, Los Altos\, CA  94022
CATEGORIES:BayAreaScience.org Events
PRIORITY:0
TRANSP:TRANSPARENT
END:VEVENT
END:VCALENDAR