BEGIN:VCALENDAR
VERSION:2.0
METHOD:PUBLISH
CALSCALE:GREGORIAN
PRODID:-//Refresh Web Development//Helios Calendar//EN
X-FROM-URL:https://www.bayareascience.org/calendar/index.php?com=details&eID=38764
X-WR-RELCALID:BayAreaScience.org Astronomy on Tap East Bay: Heavy Metal and Supermassive Black Holes 20250909T193000
X-WR-TIMEZONE:America/New_York
X-WR-CALNAME:BayAreaScience.org
BEGIN:VEVENT
URL;VALUE=URI:https://www.bayareascience.org/calendar/index.php?com=detail&eID=38764
DTSTART:20250909T193000
DTEND:20250909T210000
SUMMARY:Astronomy on Tap East Bay: Heavy Metal and Supermassive Black Holes
DESCRIPTION:This month\, we have two very exciting and wildly different talks lined up: Daniel Brethauer (UCB) will tell us all about rocking out to heavy metals. Then stick around for a talk by Dr. Jean Somalwar...\n______________________________\nThis Event Downloaded From a Helios Calendar Powered Site
LOCATION:Two Pitchers Oakland - 2344 Webster St \, Oakland\, CA  94612
CATEGORIES:BayAreaScience.org Events
PRIORITY:0
TRANSP:TRANSPARENT
END:VEVENT
END:VCALENDAR