BEGIN:VCALENDAR
VERSION:2.0
METHOD:PUBLISH
CALSCALE:GREGORIAN
PRODID:-//Refresh Web Development//Helios Calendar//EN
X-FROM-URL:https://www.bayareascience.org/calendar/index.php?com=details&eID=38767
X-WR-RELCALID:BayAreaScience.org Geminid Meteor Shower Watch Party 20251213T230000
X-WR-TIMEZONE:America/New_York
X-WR-CALNAME:BayAreaScience.org
BEGIN:VEVENT
URL;VALUE=URI:https://www.bayareascience.org/calendar/index.php?com=detail&eID=38767
DTSTART:20251213T230000
DTEND:20251214T030000
SUMMARY:Geminid Meteor Shower Watch Party
DESCRIPTION:Get ready to light up the chilly December night with wonder at our Geminid Meteor Shower Watch Party! Under the vast winter sky\, the Geminids will dazzle...\n______________________________\nThis Event Downloaded From a Helios Calendar Powered Site
LOCATION:Chabot Space and Science Center - 10000 Skyline Blvd \, Oakland\, CA USA 94619
CATEGORIES:BayAreaScience.org Events
PRIORITY:0
TRANSP:TRANSPARENT
END:VEVENT
END:VCALENDAR