BEGIN:VCALENDAR
VERSION:2.0
METHOD:PUBLISH
CALSCALE:GREGORIAN
PRODID:-//Refresh Web Development//Helios Calendar//EN
X-FROM-URL:https://www.bayareascience.org/calendar/index.php?com=details&eID=38777
X-WR-RELCALID:BayAreaScience.org SETI Live: Worlds of Fire? 20250911T143000
X-WR-TIMEZONE:America/New_York
X-WR-CALNAME:BayAreaScience.org
BEGIN:VEVENT
URL;VALUE=URI:https://www.bayareascience.org/calendar/index.php?com=detail&eID=38777
DTSTART:20250911T143000
DTEND:20250911T150000
SUMMARY:SETI Live: Worlds of Fire?
DESCRIPTION:Join communications specialist Beth Johnson and Dr. Charles-Édouard Boukaré (York University) as they dive into new research on molten rocky exoplanets - worlds so hot that their surfaces are...\n______________________________\nThis Event Downloaded From a Helios Calendar Powered Site
LOCATION:SETI Live -  \, \, CA  
CATEGORIES:BayAreaScience.org Events
PRIORITY:0
TRANSP:TRANSPARENT
END:VEVENT
END:VCALENDAR