BEGIN:VCALENDAR
VERSION:2.0
METHOD:PUBLISH
CALSCALE:GREGORIAN
PRODID:-//Refresh Web Development//Helios Calendar//EN
X-FROM-URL:https://www.bayareascience.org/calendar/index.php?com=details&eID=38831
X-WR-RELCALID:BayAreaScience.org Estimating zooplankton from autonomous underwater gliders in the California Current 20251119T133000
X-WR-TIMEZONE:America/New_York
X-WR-CALNAME:BayAreaScience.org
BEGIN:VEVENT
URL;VALUE=URI:https://www.bayareascience.org/calendar/index.php?com=detail&eID=38831
DTSTART:20251119T133000
DTEND:20251119T143000
SUMMARY:Estimating zooplankton from autonomous underwater gliders in the California Current
DESCRIPTION:Attend in person or watch on ZoomSpeaker: Jeff Dorman\,...\n______________________________\nThis Event Downloaded From a Helios Calendar Powered Site
LOCATION:Estuary & Ocean Science Center - 3150 Paradise Drive Bay Conference Center\, South Bay Room\, Tiburon\, CA  94920
CATEGORIES:BayAreaScience.org Events
PRIORITY:0
TRANSP:TRANSPARENT
END:VEVENT
END:VCALENDAR