BEGIN:VCALENDAR
VERSION:2.0
METHOD:PUBLISH
CALSCALE:GREGORIAN
PRODID:-//Refresh Web Development//Helios Calendar//EN
X-FROM-URL:https://www.bayareascience.org/calendar/index.php?com=details&eID=38885
X-WR-RELCALID:BayAreaScience.org Beyond Wearables: The Rise of Invisible AI-Powered Health Tech! 20251001T160000
X-WR-TIMEZONE:America/New_York
X-WR-CALNAME:BayAreaScience.org
BEGIN:VEVENT
URL;VALUE=URI:https://www.bayareascience.org/calendar/index.php?com=detail&eID=38885
DTSTART:20251001T160000
DTEND:20251001T170000
SUMMARY:Beyond Wearables: The Rise of Invisible AI-Powered Health Tech!
DESCRIPTION:\n______________________________\nThis Event Downloaded From a Helios Calendar Powered Site
LOCATION:Soda Hall - UC Berkeley Room 306 (HP Auditorium)\, Berkeley\, CA  94720
CATEGORIES:BayAreaScience.org Events
PRIORITY:0
TRANSP:TRANSPARENT
END:VEVENT
END:VCALENDAR