BEGIN:VCALENDAR
VERSION:2.0
METHOD:PUBLISH
CALSCALE:GREGORIAN
PRODID:-//Refresh Web Development//Helios Calendar//EN
X-FROM-URL:https://www.bayareascience.org/calendar/index.php?com=details&eID=38938
X-WR-RELCALID:BayAreaScience.org Deepfakes, Dirty Tricks, and the Future of Trust - Livestream 20251002T160000
X-WR-TIMEZONE:America/New_York
X-WR-CALNAME:BayAreaScience.org
BEGIN:VEVENT
URL;VALUE=URI:https://www.bayareascience.org/calendar/index.php?com=detail&eID=38938
DTSTART:20251002T160000
DTEND:20251002T160000
SUMMARY:Deepfakes\, Dirty Tricks\, and the Future of Trust - Livestream
DESCRIPTION:From ghost photos to UFO sightings\, people have always been drawn to illusions. Deepfakes are the modern version - sharper\, faster\, and designed to exploit trust at scale. They’re...\n______________________________\nThis Event Downloaded From a Helios Calendar Powered Site
LOCATION:Skeptical Inquirer -  \, \, CA  
CATEGORIES:BayAreaScience.org Events
PRIORITY:0
TRANSP:TRANSPARENT
END:VEVENT
END:VCALENDAR