BEGIN:VCALENDAR
VERSION:2.0
METHOD:PUBLISH
CALSCALE:GREGORIAN
PRODID:-//Refresh Web Development//Helios Calendar//EN
X-FROM-URL:https://www.bayareascience.org/calendar/index.php?com=details&eID=39013
X-WR-RELCALID:BayAreaScience.org Astronomy on Tap East Bay 20251014T193000
X-WR-TIMEZONE:America/New_York
X-WR-CALNAME:BayAreaScience.org
BEGIN:VEVENT
URL;VALUE=URI:https://www.bayareascience.org/calendar/index.php?com=detail&eID=39013
DTSTART:20251014T193000
DTEND:20251014T210000
SUMMARY:Astronomy on Tap East Bay
DESCRIPTION:This month\, we have two very exciting and wildly different talks lined up: Eliza Diggins (UCB) will tell us all about the mysteries of dark matter. Then stick around for a talk by Prof. Courtney...\n______________________________\nThis Event Downloaded From a Helios Calendar Powered Site
LOCATION:Two Pitchers Oakland - 2344 Webster St \, Oakland\, CA  94612
CATEGORIES:BayAreaScience.org Events
PRIORITY:0
TRANSP:TRANSPARENT
END:VEVENT
END:VCALENDAR