BEGIN:VCALENDAR
VERSION:2.0
METHOD:PUBLISH
CALSCALE:GREGORIAN
PRODID:-//Refresh Web Development//Helios Calendar//EN
X-FROM-URL:https://www.bayareascience.org/calendar/index.php?com=details&eID=39069
X-WR-RELCALID:BayAreaScience.org After Dark: Nuclear Options 20251106T180000
X-WR-TIMEZONE:America/New_York
X-WR-CALNAME:BayAreaScience.org
BEGIN:VEVENT
URL;VALUE=URI:https://www.bayareascience.org/calendar/index.php?com=detail&eID=39069
DTSTART:20251106T180000
DTEND:20251106T220000
SUMMARY:After Dark: Nuclear Options
DESCRIPTION:Join us for an evening where curiosity\, society\, and atoms collide - and leave with new insights into nuclear power. Dive into the technology behind reactors\, learn about the challenges...\n______________________________\nThis Event Downloaded From a Helios Calendar Powered Site
LOCATION:ExplOratorium - Pier 15 (Embarcadero at Green Street)  \, San Francisco\, CA USA 94111
CATEGORIES:BayAreaScience.org Events
PRIORITY:0
TRANSP:TRANSPARENT
END:VEVENT
END:VCALENDAR