BEGIN:VCALENDAR
VERSION:2.0
METHOD:PUBLISH
CALSCALE:GREGORIAN
PRODID:-//Refresh Web Development//Helios Calendar//EN
X-FROM-URL:https://www.bayareascience.org/calendar/index.php?com=details&eID=39092
X-WR-RELCALID:BayAreaScience.org Wonderfest:  Mathematics and Card Magic 20251202T190000
X-WR-TIMEZONE:America/New_York
X-WR-CALNAME:BayAreaScience.org
BEGIN:VEVENT
URL;VALUE=URI:https://www.bayareascience.org/calendar/index.php?com=detail&eID=39092
DTSTART:20251202T190000
DTEND:20251202T203000
SUMMARY:Wonderfest:  Mathematics and Card Magic
DESCRIPTION:Startling magic sometimes relies on deep mathematical principles. However\, if the magician is doing her job\, those principles should not be apparent to the spectator … unless the magician is...\n______________________________\nThis Event Downloaded From a Helios Calendar Powered Site
LOCATION:Hopmonk Tavern - Session Room 224 Vintage Way\, Novato\, CA  94945
CATEGORIES:BayAreaScience.org Events
PRIORITY:0
TRANSP:TRANSPARENT
END:VEVENT
END:VCALENDAR