BEGIN:VCALENDAR
VERSION:2.0
METHOD:PUBLISH
CALSCALE:GREGORIAN
PRODID:-//Refresh Web Development//Helios Calendar//EN
X-FROM-URL:https://www.bayareascience.org/calendar/index.php?com=details&eID=39295
X-WR-RELCALID:BayAreaScience.org Hydrogen-Powered Boat Ride with SWITCH Maritime 20251213T113000
X-WR-TIMEZONE:America/New_York
X-WR-CALNAME:BayAreaScience.org
BEGIN:VEVENT
URL;VALUE=URI:https://www.bayareascience.org/calendar/index.php?com=detail&eID=39295
DTSTART:20251213T113000
DTEND:20251213T143000
SUMMARY:Hydrogen-Powered Boat Ride with SWITCH Maritime
DESCRIPTION:Museum guests can now take a free cruise on the Sea Change\, the world’s first commercial zero-emissions ferry powered 100% by hydrogen fuel cells. The Sea Change is developed...\n______________________________\nThis Event Downloaded From a Helios Calendar Powered Site
LOCATION:ExplOratorium - Pier 15 (Embarcadero at Green Street)  \, San Francisco\, CA USA 94111
CATEGORIES:BayAreaScience.org Events
PRIORITY:0
TRANSP:TRANSPARENT
END:VEVENT
END:VCALENDAR