BEGIN:VCALENDAR
VERSION:2.0
METHOD:PUBLISH
CALSCALE:GREGORIAN
PRODID:-//Refresh Web Development//Helios Calendar//EN
X-FROM-URL:https://www.bayareascience.org/calendar/index.php?com=details&eID=39314
X-WR-RELCALID:BayAreaScience.org Taming Tech Debt for Platform Reliability 20260121T190000
X-WR-TIMEZONE:America/New_York
X-WR-CALNAME:BayAreaScience.org
BEGIN:VEVENT
URL;VALUE=URI:https://www.bayareascience.org/calendar/index.php?com=detail&eID=39314
DTSTART:20260121T190000
DTEND:20260121T203000
SUMMARY:Taming Tech Debt for Platform Reliability
DESCRIPTION:Site Reliability Engineering (SRE) at Google is a job function\, mindset\, and set of engineering practices focused on ensuring the reliability\, scalability\, and efficiency of production systems....\n______________________________\nThis Event Downloaded From a Helios Calendar Powered Site
LOCATION:Valley Research Park - 319 N Bernardo Ave \, Mountain View\, CA  94043
CATEGORIES:BayAreaScience.org Events
PRIORITY:0
TRANSP:TRANSPARENT
END:VEVENT
END:VCALENDAR