BEGIN:VCALENDAR
VERSION:2.0
METHOD:PUBLISH
CALSCALE:GREGORIAN
PRODID:-//Refresh Web Development//Helios Calendar//EN
X-FROM-URL:https://www.bayareascience.org/calendar/index.php?com=details&eID=39370
X-WR-RELCALID:BayAreaScience.org  Walk for Wellness: Exploring Nature and Chronic Pain Support 20260117T100000
X-WR-TIMEZONE:America/New_York
X-WR-CALNAME:BayAreaScience.org
BEGIN:VEVENT
URL;VALUE=URI:https://www.bayareascience.org/calendar/index.php?com=detail&eID=39370
DTSTART:20260117T100000
DTEND:20260117T130000
SUMMARY: Walk for Wellness: Exploring Nature and Chronic Pain Support
DESCRIPTION:If you or someone you know is experiencing chronic pain\, we invite you to participate in a movement-based conversation at Bouverie Preserve.Join Bilingual Environmental Education Specialist...\n______________________________\nThis Event Downloaded From a Helios Calendar Powered Site
LOCATION:Bouverie Preserve - 13935 California 12 \, Glen Ellen\, CA  95442
CATEGORIES:BayAreaScience.org Events
PRIORITY:0
TRANSP:TRANSPARENT
END:VEVENT
END:VCALENDAR