BEGIN:VCALENDAR
VERSION:2.0
METHOD:PUBLISH
CALSCALE:GREGORIAN
PRODID:-//Refresh Web Development//Helios Calendar//EN
X-FROM-URL:https://www.bayareascience.org/calendar/index.php?com=details&eID=39403
X-WR-RELCALID:BayAreaScience.org Winter WonderLabs at The Tech Interactive: Holi-Dough Circuits 20260104T150000
X-WR-TIMEZONE:America/New_York
X-WR-CALNAME:BayAreaScience.org
BEGIN:VEVENT
URL;VALUE=URI:https://www.bayareascience.org/calendar/index.php?com=detail&eID=39403
DTSTART:20260104T150000
DTEND:20260104T160000
SUMMARY:Winter WonderLabs at The Tech Interactive: Holi-Dough Circuits
DESCRIPTION:Light up your holidays at The Tech Interactive. In this bright and joyful lab\, you will experiment with conductive dough and simple circuits\, then bring your creativity to life by crafting a glowing...\n______________________________\nThis Event Downloaded From a Helios Calendar Powered Site
LOCATION:The Tech Interactive - 201 South Market St \, San Jose\, CA  95113
CATEGORIES:BayAreaScience.org Events
PRIORITY:0
TRANSP:TRANSPARENT
END:VEVENT
END:VCALENDAR