BEGIN:VCALENDAR
VERSION:2.0
METHOD:PUBLISH
CALSCALE:GREGORIAN
PRODID:-//Refresh Web Development//Helios Calendar//EN
X-FROM-URL:https://www.bayareascience.org/calendar/index.php?com=details&eID=39408
X-WR-RELCALID:BayAreaScience.org From Midcentury Networked Motel to Smart House: Rhetorics and Practices of Tele-hospitality 20260108T170000
X-WR-TIMEZONE:America/New_York
X-WR-CALNAME:BayAreaScience.org
BEGIN:VEVENT
URL;VALUE=URI:https://www.bayareascience.org/calendar/index.php?com=detail&eID=39408
DTSTART:20260108T170000
DTEND:20260108T183000
SUMMARY:From Midcentury Networked Motel to Smart House: Rhetorics and Practices of Tele-hospitality
DESCRIPTION:This talk explores computer research and design conducted in the 1960s - 70s by IBM and motel/hotel chains like  Holiday Inn and Hilton. Through these joint ventures\, the hospitality industry...\n______________________________\nThis Event Downloaded From a Helios Calendar Powered Site
LOCATION:McClatchy Hall - Stanford University Room 101A\, Stanford\, CA  94305
CATEGORIES:BayAreaScience.org Events
PRIORITY:0
TRANSP:TRANSPARENT
END:VEVENT
END:VCALENDAR