BEGIN:VCALENDAR
VERSION:2.0
METHOD:PUBLISH
CALSCALE:GREGORIAN
PRODID:-//Refresh Web Development//Helios Calendar//EN
X-FROM-URL:https://www.bayareascience.org/calendar/index.php?com=details&eID=39456
X-WR-RELCALID:BayAreaScience.org Opportunities at ARPA-E 20260109T100000
X-WR-TIMEZONE:America/New_York
X-WR-CALNAME:BayAreaScience.org
BEGIN:VEVENT
URL;VALUE=URI:https://www.bayareascience.org/calendar/index.php?com=detail&eID=39456
DTSTART:20260109T100000
DTEND:20260109T110000
SUMMARY:Opportunities at ARPA-E
DESCRIPTION:The Advanced Research Projects Agency - Energy (ARPA-E) was established within the US Department of Energy to solve the critical energy needs of the United States. Our work is to identify and fund...\n______________________________\nThis Event Downloaded From a Helios Calendar Powered Site
LOCATION:Environment and Energy Building (Y2E2) - Stanford University Room 299\, Stanford\, CA  94305
CATEGORIES:BayAreaScience.org Events
PRIORITY:0
TRANSP:TRANSPARENT
END:VEVENT
END:VCALENDAR