BEGIN:VCALENDAR
VERSION:2.0
METHOD:PUBLISH
CALSCALE:GREGORIAN
PRODID:-//Refresh Web Development//Helios Calendar//EN
X-FROM-URL:https://www.bayareascience.org/calendar/index.php?com=details&eID=39486
X-WR-RELCALID:BayAreaScience.org King Tides: A Royal Tide Watch Along the Embarcadero 20260103T100000
X-WR-TIMEZONE:America/New_York
X-WR-CALNAME:BayAreaScience.org
BEGIN:VEVENT
URL;VALUE=URI:https://www.bayareascience.org/calendar/index.php?com=detail&eID=39486
DTSTART:20260103T100000
DTEND:20260103T110000
SUMMARY:King Tides: A Royal Tide Watch Along the Embarcadero
DESCRIPTION:Join the Exploratorium and Port of San Francisco staff along the Embarcadero to observe\, photograph\, and discuss “Royal” Tides. These exceptionally high tides are often described as “King...\n______________________________\nThis Event Downloaded From a Helios Calendar Powered Site
LOCATION:Between Pier 3 and Pier 5 - The Embarcadero \, San Francisco\, CA  94105
CATEGORIES:BayAreaScience.org Events
PRIORITY:0
TRANSP:TRANSPARENT
END:VEVENT
END:VCALENDAR