BEGIN:VCALENDAR
VERSION:2.0
METHOD:PUBLISH
CALSCALE:GREGORIAN
PRODID:-//Refresh Web Development//Helios Calendar//EN
X-FROM-URL:https://www.bayareascience.org/calendar/index.php?com=details&eID=39511
X-WR-RELCALID:BayAreaScience.org January 2026 King Tides in Alviso 20260103T110000
X-WR-TIMEZONE:America/New_York
X-WR-CALNAME:BayAreaScience.org
BEGIN:VEVENT
URL;VALUE=URI:https://www.bayareascience.org/calendar/index.php?com=detail&eID=39511
DTSTART:20260103T110000
DTEND:20260103T110000
SUMMARY:January 2026 King Tides in Alviso
DESCRIPTION:Join us at the Refuge in Alviso for a guided walk and discover how the highest tides of the year give us a glimpse into the future of sea level rise. We'll learn what King Tides are\, how sea level...\n______________________________\nThis Event Downloaded From a Helios Calendar Powered Site
LOCATION:Don Edwards Refuge Environmental Education Center - 1751 Grand Blvd \, Alviso\, CA  95002
CATEGORIES:BayAreaScience.org Events
PRIORITY:0
TRANSP:TRANSPARENT
END:VEVENT
END:VCALENDAR