BEGIN:VCALENDAR
VERSION:2.0
METHOD:PUBLISH
CALSCALE:GREGORIAN
PRODID:-//Refresh Web Development//Helios Calendar//EN
X-FROM-URL:https://www.bayareascience.org/calendar/index.php?com=details&eID=39512
X-WR-RELCALID:BayAreaScience.org Are There Gray Foxes in Your Backyard? 20260103T130000
X-WR-TIMEZONE:America/New_York
X-WR-CALNAME:BayAreaScience.org
BEGIN:VEVENT
URL;VALUE=URI:https://www.bayareascience.org/calendar/index.php?com=detail&eID=39512
DTSTART:20260103T130000
DTEND:20260103T130000
SUMMARY:Are There Gray Foxes in Your Backyard?
DESCRIPTION:Learn all about our local gray foxes and how to identify evidence of their presence!On a walk/talk from the Visitor’s Center out into the refuge\, Bill "The Fox Guy" Leikam will show you...\n______________________________\nThis Event Downloaded From a Helios Calendar Powered Site
LOCATION:Don Edwards Refuge Headquarters & Visitors Center - 2 Marshlands Road \, Fremont\, CA  94555
CATEGORIES:BayAreaScience.org Events
PRIORITY:0
TRANSP:TRANSPARENT
END:VEVENT
END:VCALENDAR